3.147882445
0.115482097
0.115482097
-3.147882445
572835.8841
4662721.918
