3.148187188
0.106852372
0.106852372
-3.148187188
585558.6718
4672477.302
