3.148187188
0.106852372
0.106852372
-3.148187188
588549.6228
4672562.757
