3.148187188
0.106852372
0.106852372
-3.148187188
611793.5788
4673303.374
