3.148187188
0.106852372
0.106852372
-3.148187188
614727.5578
4673417.315
