3.14817274
0.107277199
0.107277199
-3.14817274
639955.1033
4683628.712
