3.14817274
0.107277199
0.107277199
-3.14817274
628361.6113
4683144.463
