3.14817274
0.107277199
0.107277199
-3.14817274
625484.6013
4683030.522
