3.14817274
0.107277199
0.107277199
-3.14817274
593495.6773
4682005.053
