3.14817274
0.107277199
0.107277199
-3.14817274
584665.2523
4681720.201
