3.14817274
0.107277199
0.107277199
-3.14817274
567175.3153
4681178.981
