3.148547072
0.095662603
0.095662603
-3.148547072
636732.2594
4692622.036
