3.148547072
0.095662603
0.095662603
-3.148547072
590272.8324
4691140.804
