3.148547072
0.095662603
0.095662603
-3.148547072
587281.8824
4691055.348
