3.148547072
0.095662603
0.095662603
-3.148547072
581442.4084
4690884.437
