3.148547072
0.095662603
0.095662603
-3.148547072
572697.4394
4690713.525
