3.148530272
0.096213964
0.096213964
-3.148530272
556668.1044
4699465.911
