3.148530272
0.096213964
0.096213964
-3.148530272
574072.5864
4699921.675
