3.148530272
0.096213964
0.096213964
-3.148530272
611957.9554
4701061.084
