3.148530272
0.096213964
0.096213964
-3.148530272
626399.9724
4701488.363
