3.148530272
0.096213964
0.096213964
-3.148530272
635230.3974
4701858.671
