3.148530272
0.096213964
0.096213964
-3.148530272
649729.3844
4702399.891
