3.148707977
0.090211277
0.090211277
-3.148707977
530421.1621
4708171.293
