3.148707977
0.090211277
0.090211277
-3.148707977
539137.6451
4708370.69
