3.148707977
0.090211277
0.090211277
-3.148707977
547882.6141
4708541.601
