3.148707977
0.090211277
0.090211277
-3.148707977
550759.6231
4708684.027
