3.148707977
0.090211277
0.090211277
-3.148707977
556684.5531
4708826.454
