3.148707977
0.090211277
0.090211277
-3.148707977
582890.9741
4709424.644
