3.148707977
0.090211277
0.090211277
-3.148707977
594455.9821
4709737.981
