3.148707977
0.090211277
0.090211277
-3.148707977
606020.9891
4710022.834
