3.148707977
0.090211277
0.090211277
-3.148707977
646754.8831
4711418.61
