3.148707977
0.090211277
0.090211277
-3.148707977
655414.3961
4711674.978
