3.14842593
0.099569907
0.099569907
-3.14842593
607096.9654
4719484.997
