3.14842593
0.099569907
0.099569907
-3.14842593
604191.4704
4719399.542
