3.14842593
0.099569907
0.099569907
-3.14842593
575172.1324
4718527.181
