3.14842593
0.099569907
0.099569907
-3.14842593
563471.8204
4718203.162
