3.14842593
0.099569907
0.099569907
-3.14842593
546081.5814
4717804.368
