3.14842593
0.099569907
0.099569907
-3.14842593
611493.0103
4719637.969
