3.14842593
0.099569907
0.099569907
-3.14842593
640334.3153
4720634.953
