3.14842593
0.099569907
0.099569907
-3.14842593
643225.5673
4720691.923
