3.14842593
0.099569907
0.099569907
-3.14842593
648979.5863
4720934.048
