3.14842593
0.099569907
0.099569907
-3.14842593
663549.7863
4721432.54
