3.148544878
0.095734788
0.095734788
-3.148544878
584223.0326
4728080.291
