3.148544878
0.095734788
0.095734788
-3.148544878
575610.8456
4727839.521
