3.148544878
0.095734788
0.095734788
-3.148544878
546496.0956
4727154.25
