3.148544878
0.095734788
0.095734788
-3.148544878
537791.3036
4726932
