3.148422704
0.099671853
0.099671853
-3.148422704
626053.4166
4729347.296
