3.148422704
0.099671853
0.099671853
-3.148422704
628942.6666
4729439.9
