3.148422704
0.099671853
0.099671853
-3.148422704
640536.7086
4729847.359
