3.148422704
0.099671853
0.099671853
-3.148422704
657983.3336
4730532.63
